BEGIN:VCALENDAR
VERSION:2.0
PRODID:icalendar-ruby
CALSCALE:GREGORIAN
METHOD:PUBLISH
BEGIN:VEVENT
DTSTAMP:20260422T114231Z
UID:206-4425434@cranbrookfellowshipbaptist.ca
DTSTART:20260926T150000Z
DTEND:20260926T160000Z
CLASS:PUBLIC
CREATED:20260422T042810
DESCRIPTION:Men's Bible Study takes place on Saturdays at 9:00 am here at t
 he church. \nOn the first Saturday of the month\, we have a Men's breakfas
 t in lieu of the study.
LAST-MODIFIED:20260422T042810
LOCATION:
SUMMARY:Men's Bible Study
URL;VALUE=URI:https://www.cranbrookfellowshipbaptist.ca/events/mens-bible-s
 tudy--206/2026-09-26
ATTACH;FILENAME=ioann-mark-kuznietsov-USS2u1-98io-unsplash.jpg;FMTTYPE=imag
 e/jpeg:https://dq5pwpg1q8ru0.cloudfront.net/2024/10/30/17/56/14/aad10b43-c
 a55-4569-b5b9-d12581095d09/ioann-mark-kuznietsov-USS2u1-98io-unsplash.jpg
END:VEVENT
END:VCALENDAR
